BEGIN:VCALENDAR
VERSION:2.0
PRODID:-//Earle Brown Music Foundation - ECPv5.8.1//NONSGML v1.0//EN
CALSCALE:GREGORIAN
METHOD:PUBLISH
X-WR-CALNAME:Earle Brown Music Foundation
X-ORIGINAL-URL:https://earle-brown.org
X-WR-CALDESC:Events for Earle Brown Music Foundation
BEGIN:VTIMEZONE
TZID:America/New_York
BEGIN:DAYLIGHT
TZOFFSETFROM:-0500
TZOFFSETTO:-0400
TZNAME:EDT
DTSTART:20220313T070000
END:DAYLIGHT
BEGIN:STANDARD
TZOFFSETFROM:-0400
TZOFFSETTO:-0500
TZNAME:EST
DTSTART:20221106T060000
END:STANDARD
END:VTIMEZONE
BEGIN:VEVENT
DTSTART;TZID=America/New_York:20220303T193000
DTEND;TZID=America/New_York:20220303T193000
DTSTAMP:20210926T112351
CREATED:20201125T201109Z
LAST-MODIFIED:20210816T132529Z
UID:1370-1646335800-1646335800@earle-brown.org
SUMMARY:Experimentalstudio Freiburg: Luigi Nono
DESCRIPTION:Luigi Nono\, Omaggio a Emilio Vedova (1960) for tape\nLuigi Nono\, A Pierre. Dell’azzurro silenzio\, inquietum (1985) for bass flute\, bass clarinet and live electronics\nLuigi Nono\, Omaggio a György Kurtág (1983-86) for alto\, flute\, clarinet\, tuba and live electronics\nLuigi Nono\, Post-Prae-Ludium n. 1 “per Donau” (1987) for tuba and live electronics\nLuigi Nono\, Guai ai gelidi mostri (1983) for 2 alti\, flute\, clarinet\, tuba\, viola\, violoncello\, double bass and live electronics \n  \nDetlef Heusinger\, Conductor \nNoa Frenkel\, voice\nElisa de Toffol\, voice\nAndrea Nagy\, clarinet\nJózsef Bazsinka\, tuba\nKathryn Schulmeister\, double bass\nMaruta Staravoitava\, flute\nMariel Roberts\, cello
URL:https://earle-brown.org/event/a-talk-about-earle-brown/
LOCATION:The DiMenna Center for Classical Music\, 450 W 37th St\, New York\, NY\, 10018\, United States
ATTACH;FMTTYPE=image/jpeg:https://earle-brown.org/wp-content/uploads/LUIGI_NONO-1.jpg
END:VEVENT
END:VCALENDAR