BEGIN:VCALENDAR
VERSION:2.0
PRODID:-//Earle Brown Music Foundation - ECPv5.7.1//NONSGML v1.0//EN
CALSCALE:GREGORIAN
METHOD:PUBLISH
X-WR-CALNAME:Earle Brown Music Foundation
X-ORIGINAL-URL:https://earle-brown.org
X-WR-CALDESC:Events for Earle Brown Music Foundation
BEGIN:VTIMEZONE
TZID:America/New_York
BEGIN:DAYLIGHT
TZOFFSETFROM:-0500
TZOFFSETTO:-0400
TZNAME:EDT
DTSTART:20220313T070000
END:DAYLIGHT
BEGIN:STANDARD
TZOFFSETFROM:-0400
TZOFFSETTO:-0500
TZNAME:EST
DTSTART:20221106T060000
END:STANDARD
END:VTIMEZONE
BEGIN:VEVENT
DTSTART;TZID=America/New_York:20220303T193000
DTEND;TZID=America/New_York:20220303T193000
DTSTAMP:20210722T204153
CREATED:20201125T201109Z
LAST-MODIFIED:20210508T164613Z
UID:1370-1646335800-1646335800@earle-brown.org
SUMMARY:Experimentalstudio Freiburg\, JACK Quartet
DESCRIPTION:Luigi Nono\, Guai ai gelidi mostri (1983)\nGeorg Friedrich Haas\, String Quartet IV\, with electronics (2003)\nLuigi Nono\, Interludio 1 from Prometeo (for Alto voice\, flute\, clarinet\, tuba) \nExperimentalstudio Freiburg\, JACK Quartet\nDetlef Heusinger\, Conductor
URL:https://earle-brown.org/event/a-talk-about-earle-brown/
LOCATION:The DiMenna Center for Classical Music\, 450 W 37th St\, New York\, NY\, 10018\, United States
ATTACH;FMTTYPE=image/jpeg:https://earle-brown.org/wp-content/uploads/LUIGI_NONO-1.jpg
END:VEVENT
END:VCALENDAR